BEGIN:VCALENDAR
VERSION:2.0
PRODID:-//hacksw/handcal//NONSGML v1.0//EN
BEGIN:VEVENT
UID:14099
DTSTART;VALUE=DATE:20200816
URL;VALUE=URI:ohschonhell.at/?page_id=31573
SUMMARY:Frühstück mit Ree:Raw &amp\; Tomagan
LOCATION:Black Market
END:VEVENT
END:VCALENDAR


