BEGIN:VCALENDAR
VERSION:2.0
PRODID:-//hacksw/handcal//NONSGML v1.0//EN
BEGIN:VEVENT
UID:14103
DTSTART;VALUE=DATE:20201003
URL;VALUE=URI:ohschonhell.at/?page_id=31586
SUMMARY:Techno in Tracht
LOCATION:VIENNA CITY BEACH CLUB
END:VEVENT
END:VCALENDAR


