BEGIN:VCALENDAR
VERSION:2.0
PRODID:-//hacksw/handcal//NONSGML v1.0//EN
BEGIN:VEVENT
UID:14107
DTSTART;VALUE=DATE:20200905
URL;VALUE=URI:ohschonhell.at/?page_id=31598
SUMMARY:Ein Abend mit: Farad &amp\; Ced
LOCATION:Black Market
END:VEVENT
END:VCALENDAR


