BEGIN:VCALENDAR
VERSION:2.0
PRODID:-//hacksw/handcal//NONSGML v1.0//EN
BEGIN:VEVENT
UID:1411
DTSTART;VALUE=DATE:20140528
URL;VALUE=URI:ohschonhell.at/?page_id=3900
SUMMARY:ZAMBARA@wirr . # A Barla (S) # Gerwin Kante (A) # Buta (GEO)  #Wienerwunderkind (D) #
LOCATION:WIRR
END:VEVENT
END:VCALENDAR


