BEGIN:VCALENDAR
VERSION:2.0
PRODID:-//hacksw/handcal//NONSGML v1.0//EN
BEGIN:VEVENT
UID:14112
DTSTART;VALUE=DATE:20200908
URL;VALUE=URI:ohschonhell.at/?page_id=31612
SUMMARY:Summer CLOSING Pop Up Techno Cafe SAUNA
LOCATION:Sauna Strand Klub
END:VEVENT
END:VCALENDAR


