BEGIN:VCALENDAR
VERSION:2.0
PRODID:-//hacksw/handcal//NONSGML v1.0//EN
BEGIN:VEVENT
UID:14115
DTSTART;VALUE=DATE:20200912
URL;VALUE=URI:ohschonhell.at/?page_id=31626
SUMMARY:Frühstück mit: Wiener Mischung
LOCATION:Black Market
END:VEVENT
END:VCALENDAR


