BEGIN:VCALENDAR
VERSION:2.0
PRODID:-//hacksw/handcal//NONSGML v1.0//EN
BEGIN:VEVENT
UID:14149
DTSTART;VALUE=DATE:20201024
URL;VALUE=URI:ohschonhell.at/?page_id=31767
SUMMARY:SIX - afterhour #07 w/ ANNIKA STEIN &amp\; HUNDERTVIERZIG
LOCATION:Black Market
END:VEVENT
END:VCALENDAR


