BEGIN:VCALENDAR
VERSION:2.0
PRODID:-//hacksw/handcal//NONSGML v1.0//EN
BEGIN:VEVENT
UID:14150
DTSTART;VALUE=DATE:20201023
URL;VALUE=URI:ohschonhell.at/?page_id=31769
SUMMARY:SIX - micro rave #07 w/ DREXSAUJAN &amp\; GORDON C.
LOCATION:Black Market
END:VEVENT
END:VCALENDAR


