BEGIN:VCALENDAR
VERSION:2.0
PRODID:-//hacksw/handcal//NONSGML v1.0//EN
BEGIN:VEVENT
UID:14153
DTSTART;VALUE=DATE:20201017
URL;VALUE=URI:ohschonhell.at/?page_id=31775
SUMMARY:TEN - afterhour #05 w/ SUTTER CANE &amp\; XLCHXMXST
LOCATION:Black Market
END:VEVENT
END:VCALENDAR


