BEGIN:VCALENDAR
VERSION:2.0
PRODID:-//hacksw/handcal//NONSGML v1.0//EN
BEGIN:VEVENT
UID:14164
DTSTART;VALUE=DATE:20201031
URL;VALUE=URI:ohschonhell.at/?page_id=31805
SUMMARY:LUCKY SIX - afterhour #09 - 1 YEAR BLACK MARKET // SCIROX &amp\; CED
LOCATION:Black Market
END:VEVENT
END:VCALENDAR


