BEGIN:VCALENDAR
VERSION:2.0
PRODID:-//hacksw/handcal//NONSGML v1.0//EN
BEGIN:VEVENT
UID:14167
DTSTART;VALUE=DATE:20201031
URL;VALUE=URI:ohschonhell.at/?page_id=31811
SUMMARY:LUCKY SIX - micro rave #10 - 1 YEAR BLACK MARKET // HALLOWEEN RAVE
LOCATION:Black Market
END:VEVENT
END:VCALENDAR


