BEGIN:VCALENDAR
VERSION:2.0
PRODID:-//hacksw/handcal//NONSGML v1.0//EN
BEGIN:VEVENT
UID:14174
DTSTART;VALUE=DATE:20210523
URL;VALUE=URI:ohschonhell.at/?page_id=31828
SUMMARY:MICRO RAVE #3 w/ Bʉnker Mʉkke
LOCATION:Black Market
END:VEVENT
END:VCALENDAR


