BEGIN:VCALENDAR
VERSION:2.0
PRODID:-//hacksw/handcal//NONSGML v1.0//EN
BEGIN:VEVENT
UID:14180
DTSTART;VALUE=DATE:20210529
URL;VALUE=URI:ohschonhell.at/?page_id=31840
SUMMARY:MICRO RAVE AFTERHOUR #4 w/ CITIZEN FOUR
LOCATION:Black Market
END:VEVENT
END:VCALENDAR


