BEGIN:VCALENDAR
VERSION:2.0
PRODID:-//hacksw/handcal//NONSGML v1.0//EN
BEGIN:VEVENT
UID:14182
DTSTART;VALUE=DATE:20210530
URL;VALUE=URI:ohschonhell.at/?page_id=31844
SUMMARY:MICRO RAVE AFTERHOUR #5 w/ WIENER MISCHUNG
LOCATION:Black Market
END:VEVENT
END:VCALENDAR


