BEGIN:VCALENDAR
VERSION:2.0
PRODID:-//hacksw/handcal//NONSGML v1.0//EN
BEGIN:VEVENT
UID:14184
DTSTART;VALUE=DATE:20210604
URL;VALUE=URI:ohschonhell.at/?page_id=31850
SUMMARY:MICRO RAVE #7 w/ ÅDRIÅN
LOCATION:Black Market
END:VEVENT
END:VCALENDAR


