BEGIN:VCALENDAR
VERSION:2.0
PRODID:-//hacksw/handcal//NONSGML v1.0//EN
BEGIN:VEVENT
UID:14186
DTSTART;VALUE=DATE:20210602
URL;VALUE=URI:ohschonhell.at/?page_id=31854
SUMMARY:MICRO RAVE #6 w/ HAMSTERRAD
LOCATION:Black Market
END:VEVENT
END:VCALENDAR


