BEGIN:VCALENDAR
VERSION:2.0
PRODID:-//hacksw/handcal//NONSGML v1.0//EN
BEGIN:VEVENT
UID:14191
DTSTART;VALUE=DATE:20210605
URL;VALUE=URI:ohschonhell.at/?page_id=31864
SUMMARY:MICRO RAVE AFTERHOUR #7 w/ ROBERT MASLACH
LOCATION:Black Market
END:VEVENT
END:VCALENDAR


