BEGIN:VCALENDAR
VERSION:2.0
PRODID:-//hacksw/handcal//NONSGML v1.0//EN
BEGIN:VEVENT
UID:14200
DTSTART;VALUE=DATE:20210612
URL;VALUE=URI:ohschonhell.at/?page_id=31882
SUMMARY:MOVIN&#039\; am Pool
LOCATION:Sauna Strand Klub
END:VEVENT
END:VCALENDAR


