BEGIN:VCALENDAR
VERSION:2.0
PRODID:-//hacksw/handcal//NONSGML v1.0//EN
BEGIN:VEVENT
UID:14204
DTSTART;VALUE=DATE:20210606
URL;VALUE=URI:ohschonhell.at/?page_id=31892
SUMMARY:Sommer am Pool
LOCATION:Sauna Strand Klub
END:VEVENT
END:VCALENDAR


