BEGIN:VCALENDAR
VERSION:2.0
PRODID:-//hacksw/handcal//NONSGML v1.0//EN
BEGIN:VEVENT
UID:14207
DTSTART;VALUE=DATE:20210612
URL;VALUE=URI:ohschonhell.at/?page_id=31898
SUMMARY:MICRO RAVE #10 w/ LÖWENZAHN
LOCATION:Black Market
END:VEVENT
END:VCALENDAR


