BEGIN:VCALENDAR
VERSION:2.0
PRODID:-//hacksw/handcal//NONSGML v1.0//EN
BEGIN:VEVENT
UID:14208
DTSTART;VALUE=DATE:20210613
URL;VALUE=URI:ohschonhell.at/?page_id=31900
SUMMARY:MICRO RAVE AFTERHOUR #10 w/ SCHWARZTEE by KATERFRÜHSTÜCK
LOCATION:Black Market
END:VEVENT
END:VCALENDAR


