BEGIN:VCALENDAR
VERSION:2.0
PRODID:-//hacksw/handcal//NONSGML v1.0//EN
BEGIN:VEVENT
UID:14209
DTSTART;VALUE=DATE:20210619
URL;VALUE=URI:ohschonhell.at/?page_id=31902
SUMMARY:MICRO RAVE #12 w/ PUSH NETWORK
LOCATION:Black Market
END:VEVENT
END:VCALENDAR


