BEGIN:VCALENDAR
VERSION:2.0
PRODID:-//hacksw/handcal//NONSGML v1.0//EN
BEGIN:VEVENT
UID:14214
DTSTART;VALUE=DATE:20210717
URL;VALUE=URI:ohschonhell.at/?page_id=31914
SUMMARY:DAY TWO | GENERAL TECHNO DE-RESTORATION | CLUB
LOCATION:Kramladen
END:VEVENT
END:VCALENDAR


