BEGIN:VCALENDAR
VERSION:2.0
PRODID:-//hacksw/handcal//NONSGML v1.0//EN
BEGIN:VEVENT
UID:14243
DTSTART;VALUE=DATE:20210703
URL;VALUE=URI:ohschonhell.at/?page_id=31985
SUMMARY:RE-OPENING WEEKENDER DAY 2. / DNB SPECIAL
LOCATION:Black Market
END:VEVENT
END:VCALENDAR


