BEGIN:VCALENDAR
VERSION:2.0
PRODID:-//hacksw/handcal//NONSGML v1.0//EN
BEGIN:VEVENT
UID:1426
DTSTART;VALUE=DATE:20140719
URL;VALUE=URI:ohschonhell.at/?page_id=3917
SUMMARY:Rolling Beats - on the beach
LOCATION:VIENNA CITY BEACH CLUB
END:VEVENT
END:VCALENDAR


