BEGIN:VCALENDAR
VERSION:2.0
PRODID:-//hacksw/handcal//NONSGML v1.0//EN
BEGIN:VEVENT
UID:14266
DTSTART;VALUE=DATE:20210704
URL;VALUE=URI:ohschonhell.at/?page_id=32086
SUMMARY:RE-OPENING WEEKENDER DAY 3. / AFTERHOUR
LOCATION:Black Market
END:VEVENT
END:VCALENDAR


