BEGIN:VCALENDAR
VERSION:2.0
PRODID:-//hacksw/handcal//NONSGML v1.0//EN
BEGIN:VEVENT
UID:14268
DTSTART;VALUE=DATE:20210709
URL;VALUE=URI:ohschonhell.at/?page_id=32088
SUMMARY:Brett No 3: Black Market invites BRETT &amp\; SPIELE
LOCATION:Black Market
END:VEVENT
END:VCALENDAR


