BEGIN:VCALENDAR
VERSION:2.0
PRODID:-//hacksw/handcal//NONSGML v1.0//EN
BEGIN:VEVENT
UID:14271
DTSTART;VALUE=DATE:20210702
URL;VALUE=URI:ohschonhell.at/?page_id=32094
SUMMARY:Kabelsalat // Hiphop\,Soul\,Funk\, Indie&amp\; Elektro.
LOCATION:SCHIKANEDER
END:VEVENT
END:VCALENDAR


