BEGIN:VCALENDAR
VERSION:2.0
PRODID:-//hacksw/handcal//NONSGML v1.0//EN
BEGIN:VEVENT
UID:14291
DTSTART;VALUE=DATE:20210715
URL;VALUE=URI:ohschonhell.at/?page_id=32137
SUMMARY:Donnerstags im Enzo
LOCATION:Enzo
END:VEVENT
END:VCALENDAR


