BEGIN:VCALENDAR
VERSION:2.0
PRODID:-//hacksw/handcal//NONSGML v1.0//EN
BEGIN:VEVENT
UID:14298
DTSTART;VALUE=DATE:20210710
URL;VALUE=URI:ohschonhell.at/?page_id=32151
SUMMARY:La FATTI
LOCATION:Die BAR im Prater
END:VEVENT
END:VCALENDAR


