BEGIN:VCALENDAR
VERSION:2.0
PRODID:-//hacksw/handcal//NONSGML v1.0//EN
BEGIN:VEVENT
UID:14304
DTSTART;VALUE=DATE:20210731
URL;VALUE=URI:ohschonhell.at/?page_id=32173
SUMMARY:NoMercy Rec. present: &quot\;HARD TUNES&quot\; at Vienna
LOCATION:Club Change
END:VEVENT
END:VCALENDAR


