BEGIN:VCALENDAR
VERSION:2.0
PRODID:-//hacksw/handcal//NONSGML v1.0//EN
BEGIN:VEVENT
UID:14306
DTSTART;VALUE=DATE:20210716
URL;VALUE=URI:ohschonhell.at/?page_id=32177
SUMMARY:BM invites DADAJACK\, KRAAKEN &amp\; ROBERT ZIELONY
LOCATION:Black Market
END:VEVENT
END:VCALENDAR


