BEGIN:VCALENDAR
VERSION:2.0
PRODID:-//hacksw/handcal//NONSGML v1.0//EN
BEGIN:VEVENT
UID:14317
DTSTART;VALUE=DATE:20210724
URL;VALUE=URI:ohschonhell.at/?page_id=32199
SUMMARY:Cruisin w Mutter and LSH  24 Juli
LOCATION:Off-Location
END:VEVENT
END:VCALENDAR


