BEGIN:VCALENDAR
VERSION:2.0
PRODID:-//hacksw/handcal//NONSGML v1.0//EN
BEGIN:VEVENT
UID:14332
DTSTART;VALUE=DATE:20210724
URL;VALUE=URI:ohschonhell.at/?page_id=32234
SUMMARY:AFTERHOUR w/ ANANAS
LOCATION:Black Market
END:VEVENT
END:VCALENDAR


