BEGIN:VCALENDAR
VERSION:2.0
PRODID:-//hacksw/handcal//NONSGML v1.0//EN
BEGIN:VEVENT
UID:14348
DTSTART;VALUE=DATE:20210730
URL;VALUE=URI:ohschonhell.at/?page_id=32279
SUMMARY:Rota Bene am Wasser - Open Air
LOCATION:USUS am Wasser
END:VEVENT
END:VCALENDAR


