BEGIN:VCALENDAR
VERSION:2.0
PRODID:-//hacksw/handcal//NONSGML v1.0//EN
BEGIN:VEVENT
UID:14349
DTSTART;VALUE=DATE:20210730
URL;VALUE=URI:ohschonhell.at/?page_id=32281
SUMMARY:BM invites CLÉMENT\, MARK DALE &amp\; Richard Steinschlag
LOCATION:Black Market
END:VEVENT
END:VCALENDAR


