BEGIN:VCALENDAR
VERSION:2.0
PRODID:-//hacksw/handcal//NONSGML v1.0//EN
BEGIN:VEVENT
UID:14368
DTSTART;VALUE=DATE:20210911
URL;VALUE=URI:ohschonhell.at/?page_id=32322
SUMMARY:GENERAL TECHNO DE-RESTORATION w/ Löwenzahn Wien
LOCATION:Kramladen
END:VEVENT
END:VCALENDAR


