BEGIN:VCALENDAR
VERSION:2.0
PRODID:-//hacksw/handcal//NONSGML v1.0//EN
BEGIN:VEVENT
UID:14382
DTSTART;VALUE=DATE:20210807
URL;VALUE=URI:ohschonhell.at/?page_id=32352
SUMMARY:Drumworks presents IAMDOOOMED / SEQUENT &amp\; SKRUFF @ Black Market
LOCATION:Black Market
END:VEVENT
END:VCALENDAR


