BEGIN:VCALENDAR
VERSION:2.0
PRODID:-//hacksw/handcal//NONSGML v1.0//EN
BEGIN:VEVENT
UID:14423
DTSTART;VALUE=DATE:20210814
URL;VALUE=URI:ohschonhell.at/?page_id=32441
SUMMARY:OPEN-AIR PARTY: ANANAS x LÖWENZAHN x PUSH x WIENER GERÜSTBAU // KULTURSOMMER WIEN
LOCATION:Open Air
END:VEVENT
END:VCALENDAR


