BEGIN:VCALENDAR
VERSION:2.0
PRODID:-//hacksw/handcal//NONSGML v1.0//EN
BEGIN:VEVENT
UID:14425
DTSTART;VALUE=DATE:20210813
URL;VALUE=URI:ohschonhell.at/?page_id=32446
SUMMARY:Rituelle Ruhestörung | Freitag der 13. im Kramladen | Techno x House mit Wiener Schlawiner
LOCATION:Kramladen
END:VEVENT
END:VCALENDAR


