BEGIN:VCALENDAR
VERSION:2.0
PRODID:-//hacksw/handcal//NONSGML v1.0//EN
BEGIN:VEVENT
UID:14472
DTSTART;VALUE=DATE:20210828
URL;VALUE=URI:ohschonhell.at/?page_id=32542
SUMMARY:K
LOCATION:SASS
END:VEVENT
END:VCALENDAR


