BEGIN:VCALENDAR
VERSION:2.0
PRODID:-//hacksw/handcal//NONSGML v1.0//EN
BEGIN:VEVENT
UID:14497
DTSTART;VALUE=DATE:20210903
URL;VALUE=URI:ohschonhell.at/?page_id=32596
SUMMARY:BM invites Adriatica\, Ådriån &amp\; Eldo
LOCATION:Black Market
END:VEVENT
END:VCALENDAR


