BEGIN:VCALENDAR
VERSION:2.0
PRODID:-//hacksw/handcal//NONSGML v1.0//EN
BEGIN:VEVENT
UID:14502
DTSTART;VALUE=DATE:20210903
URL;VALUE=URI:ohschonhell.at/?page_id=32609
SUMMARY:TUT UNS LIGHTHOUSE x PRST
LOCATION:Off-Location
END:VEVENT
END:VCALENDAR


