BEGIN:VCALENDAR
VERSION:2.0
PRODID:-//hacksw/handcal//NONSGML v1.0//EN
BEGIN:VEVENT
UID:1451
DTSTART;VALUE=DATE:20140608
URL;VALUE=URI:ohschonhell.at/?page_id=3946
SUMMARY:06.06. - 08.06.14 | &lt\;&gt\;&lt\; | TERRASSE | WE&#039\;RE OPEN!
LOCATION:GRELLE FORELLE
END:VEVENT
END:VCALENDAR


