BEGIN:VCALENDAR
VERSION:2.0
PRODID:-//hacksw/handcal//NONSGML v1.0//EN
BEGIN:VEVENT
UID:14553
DTSTART;VALUE=DATE:20211007
URL;VALUE=URI:ohschonhell.at/?page_id=32715
SUMMARY:Der Donnerstag
LOCATION:CAMERA CLUB
END:VEVENT
END:VCALENDAR


