BEGIN:VCALENDAR
VERSION:2.0
PRODID:-//hacksw/handcal//NONSGML v1.0//EN
BEGIN:VEVENT
UID:14556
DTSTART;VALUE=DATE:20211028
URL;VALUE=URI:ohschonhell.at/?page_id=32721
SUMMARY:Der Donnerstag
LOCATION:CAMERA CLUB
END:VEVENT
END:VCALENDAR


