BEGIN:VCALENDAR
VERSION:2.0
PRODID:-//hacksw/handcal//NONSGML v1.0//EN
BEGIN:VEVENT
UID:14560
DTSTART;VALUE=DATE:20211028
URL;VALUE=URI:ohschonhell.at/?page_id=32729
SUMMARY:DYNAMIC
LOCATION:Kramladen
END:VEVENT
END:VCALENDAR


