BEGIN:VCALENDAR
VERSION:2.0
PRODID:-//hacksw/handcal//NONSGML v1.0//EN
BEGIN:VEVENT
UID:14565
DTSTART;VALUE=DATE:20200910
URL;VALUE=URI:ohschonhell.at/?page_id=32740
SUMMARY:LUV EXPLOSION VOL.1
LOCATION:OPERA CLUB
END:VEVENT
END:VCALENDAR


