BEGIN:VCALENDAR
VERSION:2.0
PRODID:-//hacksw/handcal//NONSGML v1.0//EN
BEGIN:VEVENT
UID:14568
DTSTART;VALUE=DATE:20210924
URL;VALUE=URI:ohschonhell.at/?page_id=32746
SUMMARY:MOVIN&#039\; im Wohnzimmer
LOCATION:SASS
END:VEVENT
END:VCALENDAR


