BEGIN:VCALENDAR
VERSION:2.0
PRODID:-//hacksw/handcal//NONSGML v1.0//EN
BEGIN:VEVENT
UID:14573
DTSTART;VALUE=DATE:20210910
URL;VALUE=URI:ohschonhell.at/?page_id=32756
SUMMARY:Rhythm Science w/ Moare
LOCATION:SASS
END:VEVENT
END:VCALENDAR


